BEGIN:VCALENDAR
VERSION:2.0
PRODID:icalendar-ruby
CALSCALE:GREGORIAN
METHOD:PUBLISH
BEGIN:VEVENT
DTSTAMP:20260425T221757Z
UID:71-785394@ipswich.church
DTSTART:20260529T210000Z
DTEND:20260530T003000Z
CLASS:PUBLIC
CREATED:20260422T122011
DESCRIPTION:
LAST-MODIFIED:20260422T122011
LOCATION:
SUMMARY:Working Bee @ Bethany
URL;VALUE=URI:https://ipswich.church/events/working-bee-bethany--71/2026-05
 -30
END:VEVENT
END:VCALENDAR
