BEGIN:VCALENDAR
VERSION:2.0
PRODID:icalendar-ruby
CALSCALE:GREGORIAN
METHOD:PUBLISH
BEGIN:VEVENT
DTSTAMP:20260422T224758Z
UID:35-785379@ipswich.church
DTSTART:20261028T000000Z
DTEND:20261028T010000Z
CLASS:PUBLIC
CREATED:20260422T121514
DESCRIPTION:Can't always make it on a Sunday?  Join us on the last Wednesd
 ay of the month at 10am at Bethany.  Everyone is welcome - come and worsh
 ip with us!
LAST-MODIFIED:20260422T121514
LOCATION:Bethany
SUMMARY:Midweek Service @ Bethany
URL;VALUE=URI:https://ipswich.church/events/midweek-service-bethany/2026-10
 -28
ATTACH;FILENAME=Midweek.jpg;FMTTYPE=image/jpeg:https://dq5pwpg1q8ru0.cloudf
 ront.net/2025/08/07/02/17/55/b286d626-f706-439f-9d73-5f9a61119175/Midweek.
 jpg
END:VEVENT
END:VCALENDAR
