BEGIN:VCALENDAR
VERSION:2.0
PRODID:icalendar-ruby
CALSCALE:GREGORIAN
METHOD:PUBLISH
BEGIN:VEVENT
DTSTAMP:20260422T220807Z
UID:53-785392@ipswich.church
DTSTART:20261126T080000Z
DTEND:20261126T090000Z
CLASS:PUBLIC
CREATED:20260422T121902
DESCRIPTION:The Lutheran Men's Shed of Ipswich will be next meeting from 6p
 m on Thursday 23rd April 2026 at our shed located on Bethany School ground
 s\, 126 Cascade Street\, Raceview.\nOur invited guest speaker will by Mr. 
 Ross Wadsworth from the RSL Ipswich Sub branch.\nRoss will be talking abou
 t the history of ANZAC\, their presents and upholding their future in Ipsw
 ich.\nPlease consider bringing a friend.   
LAST-MODIFIED:20260422T121902
LOCATION:Bethany Lutheran School
SUMMARY:Men's Shed @ The Shed
URL;VALUE=URI:https://ipswich.church/events/mens-shed-the-shed/2026-11-26
ATTACH;FILENAME=3000@2x-100.jpg;FMTTYPE=image/jpeg:https://dq5pwpg1q8ru0.cl
 oudfront.net/2026/02/03/01/13/31/ce9d7b40-3c29-479f-9f5d-0760ae22521d/3000
 @2x-100.jpg
END:VEVENT
END:VCALENDAR
