BEGIN:VCALENDAR
VERSION:2.0
PRODID:icalendar-ruby
CALSCALE:GREGORIAN
METHOD:PUBLISH
BEGIN:VEVENT
DTSTAMP:20260424T084842Z
UID:42-791316@ipswich.church
DTSTART:20261105T040000Z
DTEND:20261105T060000Z
CLASS:PUBLIC
CREATED:20260424T115856
DESCRIPTION:Everyone is warmly invited to join us. We would love to have yo
 u with us as we grow together in faith and understanding.
LAST-MODIFIED:20260424T115856
LOCATION:Grace
SUMMARY:Bible Study @ Grace
URL;VALUE=URI:https://ipswich.church/events/bible-study-grace/2026-11-05
END:VEVENT
END:VCALENDAR
